BEGIN:VCALENDAR
VERSION:2.0
PRODID:icalendar-ruby
CALSCALE:GREGORIAN
BEGIN:VEVENT
DTSTAMP:20260420T132113Z
UID:57bf961a-ef5f-495d-8923-04f16fb5bb3d
DTSTART;TZID=Pacific/Auckland:20260426T130000
DTEND;TZID=Pacific/Auckland:20260426T133000
DESCRIPTION:Property ID# 606053
SUMMARY:Openhome for 46 Otuhiwai Crescent
END:VEVENT
END:VCALENDAR
